BEGIN:VCALENDAR
VERSION:2.0
PRODID:-//wp-events-plugin.com//7.2.3.1//EN
BEGIN:VEVENT
UID:10@mydreamconnect.org.ng
DTSTART:20241001T100000Z
DTEND:20241001T150000Z
DTSTAMP:20240109T122021Z
URL:https://mydreamconnect.org.ng/events/youth-development-forum/
SUMMARY:Youth Development Forum
DESCRIPTION:This is a day program set up to give opportunity to youth to be
 come a productive members of the society. by expressing their ideas\, opin
 ions\, and showcasing their talent/skills of immerse value to the society.
  And in turn get support to materialize their ideas and contribute to the 
 development of the society.
ATTACH;FMTTYPE=image/jpeg:https://mydreamconnect.org.ng/wp-content/uploads
 /2024/01/13.png
CATEGORIES:STAR
END:VEVENT
END:VCALENDAR