BEGIN:VCALENDAR
VERSION:2.0
PRODID:-//wp-events-plugin.com//7.2.3.1//EN
BEGIN:VEVENT
UID:12@mydreamconnect.org.ng
DTSTART:20240119T120000Z
DTEND:20240322T160000Z
DTSTAMP:20240109T153049Z
URL:https://mydreamconnect.org.ng/events/grow-your-business/
SUMMARY:GROW YOUR BUSINESS
DESCRIPTION:Every business\, whether big or small\, requires time and effor
 t to grow and keep growing. To help you FastTrack the process\, this progr
 am is a power-packed event with proven strategies you can use to accelerat
 e your business growth. To help us serve you well\, please kindly provide 
 us with the following information about you and your business. Please note
  that for you to ENJOY THE FULL BENEFITS OF THIS PROGRAM\, it is compulsor
 y that you have an active WhatsApp No\, Email OR an internet-enabled phone
  for smooth communication.\n\nCLICK HERE to REGISTER NOW!
ATTACH;FMTTYPE=image/jpeg:https://mydreamconnect.org.ng/wp-content/uploads
 /2024/01/Grow-Your-Business-GYB.png
CATEGORIES:STAR
END:VEVENT
END:VCALENDAR