BEGIN:VCALENDAR
VERSION:2.0
PRODID:-//wp-events-plugin.com//7.2.3.1//EN
BEGIN:VEVENT
UID:8@mydreamconnect.org.ng
DTSTART:20240527T100000Z
DTEND:20240527T170000Z
DTSTAMP:20240109T153505Z
URL:https://mydreamconnect.org.ng/events/childrens-day-conference/
SUMMARY:Children's Day Conference
DESCRIPTION:Every year on May 27 International Children’s Day\, we organi
 ze a one-day gathering of pre-teens and teens to engage them in learning a
 nd fun activities that help them to explore\, participate in various games
 \, learn new things\, and bond with one another.  This program aims to he
 lp them become aware of their strengths\, skills\, talents\, and creative 
 abilities.\n\n
ATTACH;FMTTYPE=image/jpeg:https://mydreamconnect.org.ng/wp-content/uploads
 /2024/01/20240109_141402_0000.png
CATEGORIES:MIX
END:VEVENT
END:VCALENDAR